BEGIN:VCALENDAR
VERSION:2.0
PRODID:-//eventon.com NONSGML v1.0//EN
BEGIN:VEVENT
UID:69ebf61444b3f
DTSTAMP:20260425T010036
DTSTART:20210717T070000Z
DTEND:20210717T080000Z
TZID:Europe/Amsterdam
LOCATION:
SUMMARY:Cyklist Ride GPS | Weg  | 100/130/150 km
DESCRIPTION: GPS CYKLISTRIDE over 100/130/150 Km Vertrekken kan tussen 09.00 uur en 11.00 uur\,  het inschrijfgeld bedraagt zoals gebruikelijk 5 Euro en tijdens de inschrijving graag aandacht voor de geldende Coronaregels. Op de 175 Km zeker een stuk of 10 Klimmetjes (met de nadruk op klimmetjes) op de 130 Km ook[..]
URL:https://www.cyklist.nl/events/cyklist-ride-weg-100-130-150-km-gps/
END:VEVENT
END:VCALENDAR